BEGIN:VCALENDAR
VERSION:2.0
PRODID:-//Noche Andaluza - ECPv6.15.15//NONSGML v1.0//EN
CALSCALE:GREGORIAN
METHOD:PUBLISH
X-WR-CALNAME:Noche Andaluza
X-ORIGINAL-URL:https://espectaculonocheandaluza.com
X-WR-CALDESC:Eventos para Noche Andaluza
REFRESH-INTERVAL;VALUE=DURATION:PT1H
X-Robots-Tag:noindex
X-PUBLISHED-TTL:PT1H
BEGIN:VTIMEZONE
TZID:UTC
BEGIN:STANDARD
TZOFFSETFROM:+0000
TZOFFSETTO:+0000
TZNAME:UTC
DTSTART:20210101T000000
END:STANDARD
END:VTIMEZONE
BEGIN:VEVENT
DTSTART;TZID=UTC:20230819T220000
DTEND;TZID=UTC:20230819T233000
DTSTAMP:20260424T125748
CREATED:20230623T185315Z
LAST-MODIFIED:20230816T125854Z
UID:1560-1692482400-1692487800@espectaculonocheandaluza.com
SUMMARY:Noche Andaluza en San Isidro del Guadalete - Cádiz
DESCRIPTION:El espectáculo «Noche Andaluza Homenaje al Rock Andaluz» continua su gira 2023  en la localidad de San Isidro del Guadalete\, en la provincia de Cádiz. \n\nLugar: Plaza Pablo Iglesias\nHorario: 22:00h.\nAcceso Libre hasta completar aforo.
URL:https://espectaculonocheandaluza.com/concierto/noche-andaluza-en-san-isidro-de-guadalete-cadiz/
LOCATION:PLaza Pablo Iglesias\, San Isidro del Guadalete\, Cádiz\, España
CATEGORIES:Conciertos
ORGANIZER;CN="Noche Andaluza":MAILTO:espectaculonocheandaluza@gmail.com
END:VEVENT
BEGIN:VEVENT
DTSTART;TZID=UTC:20230818T220000
DTEND;TZID=UTC:20230818T233000
DTSTAMP:20260424T125748
CREATED:20230726T171401Z
LAST-MODIFIED:20230803T124543Z
UID:1632-1692396000-1692401400@espectaculonocheandaluza.com
SUMMARY:NOCHE ANDALUZA EN CÚLLAR - GRANADA
DESCRIPTION:El espectáculo «TRIANA 40 AÑOS DE LEYENDA» continua su gira 2023  en la localidad de Cúllar\, en la provincia de Granada. \n• Ubicación: Complejo Lago Quitasueños. \n• Horario: 22:00h. \n• Acceso libre hasta completar aforo.
URL:https://espectaculonocheandaluza.com/concierto/noche-andaluza-en-cucullarllar-granada/
CATEGORIES:Conciertos
ORGANIZER;CN="Noche Andaluza":MAILTO:espectaculonocheandaluza@gmail.com
END:VEVENT
BEGIN:VEVENT
DTSTART;TZID=UTC:20230817T023000
DTEND;TZID=UTC:20230818T043000
DTSTAMP:20260424T125748
CREATED:20230609T061748Z
LAST-MODIFIED:20230815T165608Z
UID:1537-1692239400-1692333000@espectaculonocheandaluza.com
SUMMARY:Triana 40 Años de Leyenda en Monda - Málaga
DESCRIPTION:El espectáculo «TRIANA 40 AÑOS DE LEYENDA» continua su gira 2023  en la localidad de Monda\, en la provincia de Málaga. \n\nLugar: Plaza de la Constitución.\nHorario: 2:30h.\nAcceso libre hasta completar aforo.
URL:https://espectaculonocheandaluza.com/concierto/triana-40-anos-de-leyenda-en-monda-malaga/
LOCATION:Feria de Monda\, Plaza de la Constitución\, Monda\, Málaga\, España
CATEGORIES:Conciertos
ORGANIZER;CN="Noche Andaluza":MAILTO:espectaculonocheandaluza@gmail.com
END:VEVENT
BEGIN:VEVENT
DTSTART;TZID=UTC:20230814T210000
DTEND;TZID=UTC:20230815T023000
DTSTAMP:20260424T125748
CREATED:20230623T185019Z
LAST-MODIFIED:20230804T062107Z
UID:1558-1692046800-1692066600@espectaculonocheandaluza.com
SUMMARY:Noche Andaluza en Prado del Rey - Cádiz
DESCRIPTION:El espectáculo «Noche Andaluza Homenaje al Rock Andaluz» continua su gira 2023  en la localidad de Prado del Rey\, en la provincia de Cádiz. \nFestival «Prado Honey Fest» con la actuación de los grupos «Los Cítricos» y «La Pompa Jonda» como teloneros. \n• Ubicación: Plaza de la Constitución. \n• Horario: Apertura de puertas a las 21:00h. Noche Andaluza 00:30 h. aprox. \n• Acceso: 3€ invitación + cerveza o refresco. 6 € invitación+ copa.
URL:https://espectaculonocheandaluza.com/concierto/noche-andaluza-en-prado-del-rey-cadiz/
CATEGORIES:Conciertos
ORGANIZER;CN="Noche Andaluza":MAILTO:espectaculonocheandaluza@gmail.com
END:VEVENT
BEGIN:VEVENT
DTSTART;TZID=UTC:20230812T230000
DTEND;TZID=UTC:20230812T233000
DTSTAMP:20260424T125748
CREATED:20230726T171107Z
LAST-MODIFIED:20230806T100935Z
UID:1630-1691881200-1691883000@espectaculonocheandaluza.com
SUMMARY:NOCHE ANDALUZA EN GUARO - MÁLAGA
DESCRIPTION:El espectáculo «TRIANA 40 AÑOS DE LEYENDA» continua su gira 2023  en la localidad de Guaro\, en la provincia de Málaga. \n• Ubicación: Avd. Andalucía. \n• Horario: 23:00h. \n• Acceso libre hasta completar aforo.
URL:https://espectaculonocheandaluza.com/concierto/noche-andaluza-en-guaro-malaga/
CATEGORIES:Conciertos
ORGANIZER;CN="Noche Andaluza":MAILTO:espectaculonocheandaluza@gmail.com
END:VEVENT
BEGIN:VEVENT
DTSTART;TZID=UTC:20230811T230000
DTEND;TZID=UTC:20230812T013000
DTSTAMP:20260424T125748
CREATED:20230726T170551Z
LAST-MODIFIED:20230803T174750Z
UID:1628-1691794800-1691803800@espectaculonocheandaluza.com
SUMMARY:NOCHE ANDALUZA EN ARCHIDONA - MÁLAGA
DESCRIPTION:El espectáculo «TRIANA 40 AÑOS DE LEYENDA» continua su gira 2023  en la localidad de Archidona\, en la provincia de Málaga. \n• Horarios: 23:00h. \n• Lugar : Plaza Ochavada. \n• Acceso libre hasta completar aforo.
URL:https://espectaculonocheandaluza.com/concierto/noche-andaluza-en-archidona-malaga/
LOCATION:plaza Ochavada\, Archidona\, Málaga\, España
CATEGORIES:Conciertos
ORGANIZER;CN="Noche Andaluza":MAILTO:espectaculonocheandaluza@gmail.com
END:VEVENT
BEGIN:VEVENT
DTSTART;TZID=UTC:20230808T230000
DTEND;TZID=UTC:20230808T230000
DTSTAMP:20260424T125748
CREATED:20230726T170101Z
LAST-MODIFIED:20230803T200850Z
UID:1626-1691535600-1691535600@espectaculonocheandaluza.com
SUMMARY:TRIANA 40 AÑOS DE LEYENDA EN PALENCIANA - CÓRDOBA
DESCRIPTION:El espectáculo «TRIANA 40 AÑOS DE LEYENDA» continua su gira 2023  en la localidad de Palenciana\, en la provincia de Córdoba. \n• Horario: 23:00h. \n• Ubicación: Plaza del Carmen. \n• Acceso gratuito hasta completar aforo. \n 
URL:https://espectaculonocheandaluza.com/concierto/triana-40-anos-de-leyenda-en-palenciana-cordoba/
CATEGORIES:Conciertos
ORGANIZER;CN="Noche Andaluza":MAILTO:espectaculonocheandaluza@gmail.com
END:VEVENT
BEGIN:VEVENT
DTSTART;TZID=UTC:20230805T220000
DTEND;TZID=UTC:20230805T233000
DTSTAMP:20260424T125748
CREATED:20230623T184643Z
LAST-MODIFIED:20230705T083552Z
UID:1556-1691272800-1691278200@espectaculonocheandaluza.com
SUMMARY:Noche Andaluza en Marbella - Malaga
DESCRIPTION:El espectáculo «Noche Andaluza Homenaje al Rock Andaluz» continua su gira 2023  en la localidad de Marbella\, en la provincia de Málaga. \nEn esta ocasión\, el espectáculo Producido y dirigido por Juan Delola\, contará por primera vez este año con la voz solista de Juanjo Alcántara \, realizando una versión especial del espectáculo que ya en 2020 colgó el Sold-Out en el Auditorio del Parque de la Constitución «José Pernia». \nEste concierto está Organizado por la Asociación de Voluntarios de Oncología Infantil AVOI. \n Sábado 5 agosto. \n Auditorio José Pernía\, Parque de la Constitución. \n Comienzo: 22:00h. \n Entradas: 12€ anticipada. 15€ en taquilla \nCompra tu entrada en: \nhttps://mientrada.janto.es/espectaculo/evento/MARNOCHEANDALUZA \n 
URL:https://espectaculonocheandaluza.com/concierto/noche-andaluza-en-marbella-malaga-juanjoalcantara/
LOCATION:Auditorio José Pernía\, Parque de la Constitución\, Marbella\, Málaga\, 29600\, España
CATEGORIES:Conciertos
ORGANIZER;CN="Noche Andaluza":MAILTO:espectaculonocheandaluza@gmail.com
END:VEVENT
BEGIN:VEVENT
DTSTART;TZID=UTC:20230729T220000
DTEND;TZID=UTC:20230729T233000
DTSTAMP:20260424T125748
CREATED:20230623T182924Z
LAST-MODIFIED:20230719T155804Z
UID:1554-1690668000-1690673400@espectaculonocheandaluza.com
SUMMARY:Noche Andaluza en Villanueva del Ariscal - Sevilla
DESCRIPTION:El espectáculo «Noche Andaluza Homenaje al Rock Andaluz» continua su gira 2023  en la localidad de Villanueva del Ariscal\, en la provincia de Sevilla. \n• Plaza del Santísimo Sacramento. \n• 22:30h. \n• Acceso gratuito hasta completar aforo
URL:https://espectaculonocheandaluza.com/concierto/noche-andaluza-en-villanueva-del-ariscal-sevilla/
LOCATION:Plaza del Santísimo Sacramento\, Plaza Santísimo Sacramento\, Villanueva del Ariscal\, Sevilla\, España
CATEGORIES:Conciertos
ORGANIZER;CN="Noche Andaluza":MAILTO:espectaculonocheandaluza@gmail.com
END:VEVENT
BEGIN:VEVENT
DTSTART;TZID=UTC:20230728T220000
DTEND;TZID=UTC:20230728T233000
DTSTAMP:20260424T125748
CREATED:20230525T165418Z
LAST-MODIFIED:20230703T093345Z
UID:1528-1690581600-1690587000@espectaculonocheandaluza.com
SUMMARY:Noche Andaluza en Estepona - Málaga
DESCRIPTION:El espectáculo «Noche Andaluza Homenaje al Rock Andaluz» continua su gira 2023  en la localidad de Estepona\, en la provincia de Málaga. \n– Ubicación: Playa de la Rada (Plazoleta Ortiz). \n– Horarios: 22:00h. \n– Acceso Gratuito hasta completar aforo.
URL:https://espectaculonocheandaluza.com/concierto/noche-andaluza-en-estepona-malaga-2/
LOCATION:Playa de la Rada\, Estepona\, Málaga\, 29680\, España
CATEGORIES:Conciertos
ORGANIZER;CN="Noche Andaluza":MAILTO:espectaculonocheandaluza@gmail.com
END:VEVENT
BEGIN:VEVENT
DTSTART;TZID=UTC:20230724T000000
DTEND;TZID=UTC:20230725T020000
DTSTAMP:20260424T125748
CREATED:20230315T172421Z
LAST-MODIFIED:20230715T092041Z
UID:1386-1690156800-1690250400@espectaculonocheandaluza.com
SUMMARY:Triana 40 años de Leyenda en Mengíbar - Jaén
DESCRIPTION:El espectáculo «TRIANA 40 AÑOS DE LEYENDA» continua su gira 2023  en la localidad de Mengíbar\, en la provincia de Jaén. \n\nUbicación: Recinto de la 𝗣𝗶𝘀𝗰𝗶𝗻𝗮 𝗠𝘂𝗻𝗶𝗰𝗶𝗽𝗮𝗹.\nHorario: 00:00h.\nAcceso: 5 €\n\nVenta de entradas aquí.aquí.
URL:https://espectaculonocheandaluza.com/concierto/triana-40-anos-de-leyenda-en-mengibar-jaen/
CATEGORIES:Conciertos
ORGANIZER;CN="Noche Andaluza":MAILTO:espectaculonocheandaluza@gmail.com
END:VEVENT
BEGIN:VEVENT
DTSTART;TZID=UTC:20230723T230000
DTEND;TZID=UTC:20230724T003000
DTSTAMP:20260424T125748
CREATED:20230505T145643Z
LAST-MODIFIED:20230705T065148Z
UID:1411-1690153200-1690158600@espectaculonocheandaluza.com
SUMMARY:TRIANA 40 AÑOS DE LEYENDA EN Villariezo – Burgos
DESCRIPTION:El espectáculo «TRIANA 40 AÑOS DE LEYENDA» continua su gira 2023  en la localidad de Villariezo\, en la provincia de Burgos. \nAñadiremos el cartel a medida que el organizador lo haga público. \n\nLugar : Entorno polideportivo. Campo de futbol.\nHora: 23:00h.\nAcceso libre hasta completar aforo.
URL:https://espectaculonocheandaluza.com/concierto/triana-40-anos-de-leyenda-en-villariezo-burgos/
LOCATION:Campo de Futbol\, Villariezo\, Burgos\, España
CATEGORIES:Conciertos
ORGANIZER;CN="Noche Andaluza":MAILTO:espectaculonocheandaluza@gmail.com
END:VEVENT
BEGIN:VEVENT
DTSTART;TZID=UTC:20230722T230000
DTEND;TZID=UTC:20230722T233000
DTSTAMP:20260424T125748
CREATED:20230505T150230Z
LAST-MODIFIED:20230704T133039Z
UID:1415-1690066800-1690068600@espectaculonocheandaluza.com
SUMMARY:TRIANA 40 AÑOS DE LEYENDA EN Los Blázquez – Córdoba
DESCRIPTION:El espectáculo «TRIANA 40 AÑOS DE LEYENDA» continua su gira 2023  en la localidad de Los Blázquez\, en la provincia de Córdoba. \n• Plaza de la constitución. \n• hora: 23:00h. \n• Acceso gratuito hasta completar aforo.
URL:https://espectaculonocheandaluza.com/concierto/triana-40-anos-de-leyenda-en-los-blazquez-cordoba/
LOCATION:Plaza de la Constitución\, Plaza de la Constitución\, Fuente de Piedra\, Málaga\, 29520\, Spain
CATEGORIES:Conciertos
ORGANIZER;CN="Noche Andaluza":MAILTO:espectaculonocheandaluza@gmail.com
END:VEVENT
BEGIN:VEVENT
DTSTART;TZID=UTC:20230715T220000
DTEND;TZID=UTC:20230715T233000
DTSTAMP:20260424T125748
CREATED:20230623T182734Z
LAST-MODIFIED:20230713T050449Z
UID:1552-1689458400-1689463800@espectaculonocheandaluza.com
SUMMARY:Noche Andaluza en Mojácar - Almería
DESCRIPTION:El espectáculo «Noche Andaluza Homenaje al Rock Andaluz» continua su gira 2023  en la localidad de Mojácar\, en la provincia de Almería. \n\nPlaza Nueva.\n22:00h.\nAcceso libre hasta completar aforo.
URL:https://espectaculonocheandaluza.com/concierto/noche-andaluza-en-mojacar-almeria/
LOCATION:Plaza Nueva\, Plaza nueva\, Estación de Cortes\, Cádiz\, 29391\, España
CATEGORIES:Conciertos
ORGANIZER;CN="Noche Andaluza":MAILTO:espectaculonocheandaluza@gmail.com
END:VEVENT
BEGIN:VEVENT
DTSTART;TZID=UTC:20230714T223000
DTEND;TZID=UTC:20230714T233000
DTSTAMP:20260424T125748
CREATED:20230525T165249Z
LAST-MODIFIED:20230711T204612Z
UID:1526-1689373800-1689377400@espectaculonocheandaluza.com
SUMMARY:Noche Andaluza en El Ejido - Almería
DESCRIPTION:El espectáculo «Noche Andaluza Homenaje al Rock Andaluz» continua su gira 2023  en el municipio de El Ejido\, en la provincia de Almería. \n\nCastillo de Guardias Viejas\n22:30h.\nAcceso 5€  (aforo reducido)\nVenta de entradas Aqui
URL:https://espectaculonocheandaluza.com/concierto/noche-andaluza-en-el-ejido-almeria/
LOCATION:Catillo de Guardias Viejas\, El Ejido\, Almería\, 04715\, España
CATEGORIES:Conciertos
ORGANIZER;CN="Noche Andaluza":MAILTO:espectaculonocheandaluza@gmail.com
END:VEVENT
BEGIN:VEVENT
DTSTART;TZID=UTC:20230708T223000
DTEND;TZID=UTC:20230708T234500
DTSTAMP:20260424T125748
CREATED:20230525T164946Z
LAST-MODIFIED:20230703T092658Z
UID:1524-1688855400-1688859900@espectaculonocheandaluza.com
SUMMARY:Noche Andaluza en Peñarroya-Pueblonuevo - Córdoba
DESCRIPTION:El espectáculo «Noche Andaluza Homenaje al Rock Andaluz» continua su gira 2023  en la localidad de Peñarroya-Pueblo\, en la provincia de Córdoba. \n– Hora: 22:30h. \n– Ubicación: Caseta Municipal. \n– Acceso: 3 euros
URL:https://espectaculonocheandaluza.com/concierto/noche-andaluza-en-penarroya-pueblo-nuevo-cordoba/
LOCATION:Caseta Municipal\, Valverde del Camino\, Huelva\, España
CATEGORIES:Conciertos
ORGANIZER;CN="Noche Andaluza":MAILTO:espectaculonocheandaluza@gmail.com
END:VEVENT
BEGIN:VEVENT
DTSTART;TZID=UTC:20230707T223000
DTEND;TZID=UTC:20230707T234500
DTSTAMP:20260424T125748
CREATED:20230505T150552Z
LAST-MODIFIED:20230703T073253Z
UID:1417-1688769000-1688773500@espectaculonocheandaluza.com
SUMMARY:TRIANA 40 AÑOS DE LEYENDA en San José del Valle - Cádiz
DESCRIPTION:El espectáculo «TRIANA 40 AÑOS DE LEYENDA» continua su gira 2023  en la localidad de San José del Valle\, en la provincia de Cádiz. \n– 22:30h. \n– Plaza de Andalucía. \n– Acceso libre hasta completar aforo.
URL:https://espectaculonocheandaluza.com/concierto/triana-40-anos-de-leyenda-en-san-jose-del-valle-cadiz/
LOCATION:Plaza de Andalucía\, plaza de Andalucía\, San José del Valle
CATEGORIES:Conciertos
ORGANIZER;CN="Noche Andaluza":MAILTO:espectaculonocheandaluza@gmail.com
END:VEVENT
BEGIN:VEVENT
DTSTART;TZID=UTC:20230701T230000
DTEND;TZID=UTC:20230701T233000
DTSTAMP:20260424T125748
CREATED:20230623T182427Z
LAST-MODIFIED:20230626T161308Z
UID:1550-1688252400-1688254200@espectaculonocheandaluza.com
SUMMARY:Noche Andaluza en Montejícar - Granada
DESCRIPTION:El espectáculo «Noche Andaluza Homenaje al Rock Andaluz» continua su gira 2023  en la localidad de Montejicar\, en la provincia de Granada. \nConcierto incluido en la Semana Cultural  Montejicar 2023. \n\nLugar: Plaza de la constitución.\nHora: 23:00\nAcceso: Gratuito hasta completar aforo.
URL:https://espectaculonocheandaluza.com/concierto/noche-andaluza-en-montejicar-granada/
LOCATION:Plaza de la Constitución\, Plaza de la Constitución\, Fuente de Piedra\, Málaga\, 29520\, Spain
CATEGORIES:Conciertos
ORGANIZER;CN="Noche Andaluza":MAILTO:espectaculonocheandaluza@gmail.com
END:VEVENT
BEGIN:VEVENT
DTSTART;TZID=UTC:20230617T220000
DTEND;TZID=UTC:20230617T233000
DTSTAMP:20260424T125748
CREATED:20230315T171909Z
LAST-MODIFIED:20230614T180340Z
UID:1384-1687039200-1687044600@espectaculonocheandaluza.com
SUMMARY:Noche Andaluza en Pozoblanco - Córdoba
DESCRIPTION:El espectáculo «Noche Andaluza Homenaje al Rock Andaluz» continua su gira 2023  en la localidad de Pozoblanco\, en la provincia de Córdoba. \n  \n– Ubicación: Casa del pozo viejo. \n– Horario: 22:00h. \n– Acceso: 5€
URL:https://espectaculonocheandaluza.com/concierto/noche-andaluza-en-pozoblanco-cordoba/
LOCATION:Casa del Pozo Viejoo\, Plaza del pozo Viejo\, Pozoblanco\, Córdoba\, 14400\, España
CATEGORIES:Conciertos
ORGANIZER;CN="Noche Andaluza":MAILTO:espectaculonocheandaluza@gmail.com
END:VEVENT
BEGIN:VEVENT
DTSTART;TZID=UTC:20230610T223000
DTEND;TZID=UTC:20230610T233000
DTSTAMP:20260424T125748
CREATED:20230505T154934Z
LAST-MODIFIED:20230529T192202Z
UID:1420-1686436200-1686439800@espectaculonocheandaluza.com
SUMMARY:TRIANA 40 AÑOS DE LEYENDA en Aguilar de la Frontera – Córdoba
DESCRIPTION:El espectáculo «TRIANA 40 AÑOS DE LEYENDA» comienza su gira 2023  en la localidad de Aguilar de la Frontera en la provincia de Córdoba. \n\nUbicación: Caseta Municipal.\nHorario: 22:30h.\nAcceso libre hasta completar aforo.
URL:https://espectaculonocheandaluza.com/concierto/triana-40-anos-de-leyenda-en-aguilar-de-la-frontera-cordoba/
CATEGORIES:Conciertos
ORGANIZER;CN="Noche Andaluza":MAILTO:espectaculonocheandaluza@gmail.com
END:VEVENT
BEGIN:VEVENT
DTSTART;TZID=UTC:20230604T203000
DTEND;TZID=UTC:20230604T233000
DTSTAMP:20260424T125748
CREATED:20230315T171716Z
LAST-MODIFIED:20230525T172010Z
UID:1382-1685910600-1685921400@espectaculonocheandaluza.com
SUMMARY:Noche Andaluza en Alhaurín de la Torre - Málaga
DESCRIPTION:El espectáculo «Noche Andaluza Homenaje al Rock Andaluz» continua su gira 2023  en la localidad de Alhaurín de la Torre\, en la provincia de Málaga. \n  \n📅 Domingo 4 de junio.\n📍 Alhaurín de la Torre  (Málaga)\n🏫 Auditorio municipal Finca El Portón\n🕰️ Comienzo: 20:30h.\n🎟️ Entradas a la venta en mi entrada.net en el siguiente enlace. \nhttps://mientrada.janto.es/espectaculo/evento/ALHNOCHEANDALUZA \n 
URL:https://espectaculonocheandaluza.com/concierto/noche-andaluza-en-alhaurin-de-la-torre-malaga/
LOCATION:Finca El Portón\, Alhaurín de la Torre\, Málaga
CATEGORIES:Conciertos
ORGANIZER;CN="Noche Andaluza":MAILTO:espectaculonocheandaluza@gmail.com
END:VEVENT
BEGIN:VEVENT
DTSTART;TZID=UTC:20230520T233000
DTEND;TZID=UTC:20230520T233000
DTSTAMP:20260424T125748
CREATED:20230517T052630Z
LAST-MODIFIED:20230517T052943Z
UID:1488-1684625400-1684625400@espectaculonocheandaluza.com
SUMMARY:NOCHE ANDALUZA en Alozaina - Málaga
DESCRIPTION:El espectáculo Noche Andaluza Homenaje al Rock Andaluz continua su gira 2023 en la provincia de Málaga\, concretamente en el pueblo de Alozaina. \n• Calle Calvario. \n• 23:30h. \n• Acceso Gratuito.
URL:https://espectaculonocheandaluza.com/concierto/noche-andaluza-en-alozaina-malaga/
LOCATION:Calle Calvario\, Alozaina\, Málaga\, España
CATEGORIES:Conciertos
ORGANIZER;CN="Noche Andaluza":MAILTO:espectaculonocheandaluza@gmail.com
END:VEVENT
BEGIN:VEVENT
DTSTART;TZID=UTC:20230513T000000
DTEND;TZID=UTC:20230513T233000
DTSTAMP:20260424T125748
CREATED:20230315T171425Z
LAST-MODIFIED:20230512T112928Z
UID:1380-1683936000-1684020600@espectaculonocheandaluza.com
SUMMARY:Noche Andaluza en Villanueva de Algaidas - Málaga
DESCRIPTION:El espectáculo «Noche Andaluza Homenaje al Rock Andaluz» continua su gira 2023  en la localidad de Villanueva de Algaidas en la provincia de Málaga. \n📅 Sábado 13 mayo. \n📍 La Atalaya-Villanueva de Algaidas (Málaga) \n🏫 Caseta Municipal \n🕰️ Comienzo: 00:00h. \n🎟️ Acceso libre. \n  \n#nocheandaluzarock #concierto #VillanuevadeAlgaidas #malaga #giranocheandaluza2023 #espectaculo #homenaje #rockandaluz
URL:https://espectaculonocheandaluza.com/concierto/noche-andaluza-en-villanueva-de-algaidas-malaga/
CATEGORIES:Conciertos
ORGANIZER;CN="Noche Andaluza":MAILTO:espectaculonocheandaluza@gmail.com
END:VEVENT
BEGIN:VEVENT
DTSTART;TZID=UTC:20230507T160000
DTEND;TZID=UTC:20230507T180000
DTSTAMP:20260424T125748
CREATED:20230315T170932Z
LAST-MODIFIED:20230505T155614Z
UID:1376-1683475200-1683482400@espectaculonocheandaluza.com
SUMMARY:Noche Andaluza en El Gastor - Cádiz
DESCRIPTION:El espectáculo «Noche Andaluza Homenaje al Rock Andaluz» continua su gira 2023  en la localidad de El Gastor en la provincia de Cádiz. \n– Romería Virgen de Fátima. \n– 16:00h.– \n– Acceso gratuito.
URL:https://espectaculonocheandaluza.com/concierto/noche-andaluza-en-el-gastor-cadiz/
CATEGORIES:Conciertos
ORGANIZER;CN="Noche Andaluza":MAILTO:espectaculonocheandaluza@gmail.com
END:VEVENT
BEGIN:VEVENT
DTSTART;TZID=UTC:20230501T200000
DTEND;TZID=UTC:20230501T233000
DTSTAMP:20260424T125748
CREATED:20230223T212113Z
LAST-MODIFIED:20230427T171504Z
UID:1330-1682971200-1682983800@espectaculonocheandaluza.com
SUMMARY:Noche Andaluza en Hinojosa del Duque - Córdoba
DESCRIPTION:El espectáculo Noche Andaluza continua su gira 2023 en la localidad Cordobesa de Hinojosa del Duque\, repitiendo en esta localidad ya que la pasada gira ya visito éste pueblo. \n\nLugar: Plaza de la Catedral.\nHorario: 20:00h.\n\n 
URL:https://espectaculonocheandaluza.com/concierto/noche-andaluza-en-hinojosa-del-duque-cordoba-2/
LOCATION:Hinojosa del Duque\, Córdoba\, España
CATEGORIES:Conciertos
ORGANIZER;CN="Noche Andaluza":MAILTO:espectaculonocheandaluza@gmail.com
END:VEVENT
BEGIN:VEVENT
DTSTART;TZID=UTC:20230430T223000
DTEND;TZID=UTC:20230430T233000
DTSTAMP:20260424T125748
CREATED:20230315T170651Z
LAST-MODIFIED:20230425T110711Z
UID:1373-1682893800-1682897400@espectaculonocheandaluza.com
SUMMARY:Noche Andaluza en Guadalcanal - Sevilla
DESCRIPTION:El espectáculo «Noche Andaluza Homenaje al Rock Andaluz» continua su gira 2023  en la localidad de Guadalcanal\, en la provincia de Sevilla. \n– Lugar: Plaza de España. \n– Hora: 22:30h. \nAñadiremos más detalles a medida que el organizador lo haga público.
URL:https://espectaculonocheandaluza.com/concierto/noche-andaluza-en-guadalcanal-sevilla/
CATEGORIES:Conciertos
ORGANIZER;CN="Noche Andaluza":MAILTO:espectaculonocheandaluza@gmail.com
END:VEVENT
BEGIN:VEVENT
DTSTART;VALUE=DATE:20230422
DTEND;VALUE=DATE:20230424
DTSTAMP:20260424T125748
CREATED:20230315T170214Z
LAST-MODIFIED:20230417T175620Z
UID:1368-1682139600-1682225999@espectaculonocheandaluza.com
SUMMARY:Noche Andaluza en Casabermeja - Málaga
DESCRIPTION:El espectáculo «Noche Andaluza Homenaje al Rock Andaluz» continua su gira 2023  en la localidad de Casabermeja en la provincia de Málaga. \n\nUbicacion: Polideportivo Antonio Sanchez\nHorario: a partir de las 18:30h.
URL:https://espectaculonocheandaluza.com/concierto/noche-andaluza-en-casabermeja-malaga/
CATEGORIES:Conciertos
ORGANIZER;CN="Noche Andaluza":MAILTO:espectaculonocheandaluza@gmail.com
END:VEVENT
BEGIN:VEVENT
DTSTART;VALUE=DATE:20230325
DTEND;VALUE=DATE:20230327
DTSTAMP:20260424T125748
CREATED:20230304T181313Z
LAST-MODIFIED:20230315T170424Z
UID:1341-1679720400-1679806799@espectaculonocheandaluza.com
SUMMARY:Noche Andaluza en Algarrobo - Málaga
DESCRIPTION:El espectáculo «Noche Andaluza Homenaje al Rock Andaluz» continua su gira 2023  en la localidad de  Algarrobo (Málaga). \n  \n\nEvento a Partir de las 18:00h. Nuestro concierto sobre las 20:30h.\nCarpa de la Escalerilla.\n\nAñadiremos más detalles a medida que el promotor los vaya haciendo público.
URL:https://espectaculonocheandaluza.com/concierto/noche-andaluza-en-algarrobo-malaga/
LOCATION:Parque de la Escalerilla\, c. de la Escalerilla\, Algarrobo\, Málaga\, 29750\, España
CATEGORIES:Conciertos
ORGANIZER;CN="Noche Andaluza":MAILTO:espectaculonocheandaluza@gmail.com
END:VEVENT
BEGIN:VEVENT
DTSTART;VALUE=DATE:20230228
DTEND;VALUE=DATE:20230302
DTSTAMP:20260424T125748
CREATED:20230223T212545Z
LAST-MODIFIED:20230225T121040Z
UID:1334-1677560400-1677646799@espectaculonocheandaluza.com
SUMMARY:Noche Andaluza en Los Corrales - Sevilla
DESCRIPTION:El espectáculo Noche Andaluza continua su gira 2023 en la localidad sevillana de Los Corrales. \nComo festividad del Día de Andalucía en Los Corrales\, se celebrara este concierto evocando el rock andaluz de antaño. \n\n16:30h.\nPlaza de Andalucía.\nAcceso Gratuito.\n\n 
URL:https://espectaculonocheandaluza.com/concierto/noche-andaluza-en-los-corrales-sevilla/
CATEGORIES:Conciertos
ORGANIZER;CN="Noche Andaluza":MAILTO:espectaculonocheandaluza@gmail.com
END:VEVENT
BEGIN:VEVENT
DTSTART;TZID=UTC:20221203T223000
DTEND;TZID=UTC:20221204T003000
DTSTAMP:20260424T125748
CREATED:20221128T073549Z
LAST-MODIFIED:20221128T084257Z
UID:1281-1670106600-1670113800@espectaculonocheandaluza.com
SUMMARY:Noche Andaluza en Istán - Málaga
DESCRIPTION:El espectáculo Noche Andaluza Homenaje al Rock Andaluz finaliza su gira 2022 en la localidad malagueña de Istán. Concierto recordando el movimiento del rock andaluz y en esta ocasión celebrando la víspera del 45 aniversario del 4 diciembre de 1977. \nToda la recaudación irá destinada a la Fundación CUDECA. \n– Donativo 2€. \n– Puntos de recogida: Ayuntamiento de Istán. \n& tienda La Música Marbella. \n– Hora de comienzo 22:30. \n– Sólo 300 butacas disponibles. Recoge tu entrada cuanto antes.
URL:https://espectaculonocheandaluza.com/concierto/noche-andaluza-en-istan-malaga/
LOCATION:Teatro municipal de Istán\, Ayuntamiento de Istán\, Málaga\, España
CATEGORIES:Conciertos
ORGANIZER;CN="Noche Andaluza":MAILTO:espectaculonocheandaluza@gmail.com
END:VEVENT
END:VCALENDAR