BEGIN:VCALENDAR
VERSION:2.0
PRODID:-//Noche Andaluza - ECPv6.15.15//NONSGML v1.0//EN
CALSCALE:GREGORIAN
METHOD:PUBLISH
X-WR-CALNAME:Noche Andaluza
X-ORIGINAL-URL:https://espectaculonocheandaluza.com
X-WR-CALDESC:Eventos para Noche Andaluza
REFRESH-INTERVAL;VALUE=DURATION:PT1H
X-Robots-Tag:noindex
X-PUBLISHED-TTL:PT1H
BEGIN:VTIMEZONE
TZID:UTC
BEGIN:STANDARD
TZOFFSETFROM:+0000
TZOFFSETTO:+0000
TZNAME:UTC
DTSTART:20240101T000000
END:STANDARD
END:VTIMEZONE
BEGIN:VEVENT
DTSTART;VALUE=DATE:20250712
DTEND;VALUE=DATE:20250714
DTSTAMP:20260419T190619
CREATED:20250522T085512Z
LAST-MODIFIED:20250603T060822Z
UID:2177-1752296400-1752382799@espectaculonocheandaluza.com
SUMMARY:Noche Andaluza en Carmonita - Badajoz
DESCRIPTION:El Espectáculo Noche Andaluza visita el municipio de Carmonita\, en la provincia de Badajoz. \n– 3 Festival Carmonita. \n– Ubicación: Recinto Piscina Municipal. \n– Apertura de puertas 22:00 h. \n– Entrada anticipada 15€ en taquilla 20€. \n  \n 
URL:https://espectaculonocheandaluza.com/concierto/noche-andaluza-en-carmonita-badajoz/
CATEGORIES:Conciertos
ATTACH;FMTTYPE=image/jpeg:https://espectaculonocheandaluza.com/wp-content/uploads/2025/05/IMG-20250603-WA0000.jpg
ORGANIZER;CN="Noche Andaluza":MAILTO:espectaculonocheandaluza@gmail.com
END:VEVENT
BEGIN:VEVENT
DTSTART;TZID=UTC:20250719T233000
DTEND;TZID=UTC:20250719T233000
DTSTAMP:20260419T190619
CREATED:20250204T084116Z
LAST-MODIFIED:20250714T104503Z
UID:2148-1752967800-1752967800@espectaculonocheandaluza.com
SUMMARY:Noche Andaluza en Colmenar - Málaga
DESCRIPTION:El Espectáculo Noche Andaluza visita el municipio de Colmenar\, en la provincia de Málaga. \n  \n\nEvento: Matagallar Rock Festival.\nUbicación: Recinto de la piscina.\nA Partir de las 23:30h.\n\n 
URL:https://espectaculonocheandaluza.com/concierto/noche-andaluza-en-colmenar-malaga/
CATEGORIES:Conciertos
ORGANIZER;CN="Noche Andaluza":MAILTO:espectaculonocheandaluza@gmail.com
END:VEVENT
BEGIN:VEVENT
DTSTART;VALUE=DATE:20250724
DTEND;VALUE=DATE:20250726
DTSTAMP:20260419T190619
CREATED:20250522T085710Z
LAST-MODIFIED:20250701T081156Z
UID:2179-1753333200-1753419599@espectaculonocheandaluza.com
SUMMARY:Noche Andaluza en Ronda - Málaga
DESCRIPTION:El Espectáculo Noche Andaluza visita el municipio de Ronda\, en la provincia de Málaga dentro del festival «conciertos en la Muralla». \n\nMurallas del Carmen (Calle Goleta).\nConcierto a las 22:30h.\nAcceso libre hasta completar aforo.
URL:https://espectaculonocheandaluza.com/concierto/noche-andaluza-en-ronda-malaga-2/
CATEGORIES:Conciertos
ATTACH;FMTTYPE=image/jpeg:https://espectaculonocheandaluza.com/wp-content/uploads/2025/05/Cartel-Ronda-Concierto-en-La-Muralla.jpg
ORGANIZER;CN="Noche Andaluza":MAILTO:espectaculonocheandaluza@gmail.com
END:VEVENT
END:VCALENDAR