BEGIN:VCALENDAR
VERSION:2.0
PRODID:-//Noche Andaluza - ECPv6.15.15//NONSGML v1.0//EN
CALSCALE:GREGORIAN
METHOD:PUBLISH
X-WR-CALNAME:Noche Andaluza
X-ORIGINAL-URL:https://espectaculonocheandaluza.com
X-WR-CALDESC:Eventos para Noche Andaluza
REFRESH-INTERVAL;VALUE=DURATION:PT1H
X-Robots-Tag:noindex
X-PUBLISHED-TTL:PT1H
BEGIN:VTIMEZONE
TZID:UTC
BEGIN:STANDARD
TZOFFSETFROM:+0000
TZOFFSETTO:+0000
TZNAME:UTC
DTSTART:20240101T000000
END:STANDARD
END:VTIMEZONE
BEGIN:VEVENT
DTSTART;TZID=UTC:20250614T223000
DTEND;TZID=UTC:20250614T223000
DTSTAMP:20260419T203425
CREATED:20250204T083822Z
LAST-MODIFIED:20250526T082157Z
UID:2146-1749940200-1749940200@espectaculonocheandaluza.com
SUMMARY:Noche Andaluza en Los Villares - Jaén
DESCRIPTION:El Espectáculo Noche Andaluza continua su gira en el municipio de Los Villares\, en la provincia de Jaén. \n\nFestival Ermita Fest.\nParaje Ermita san Juan Bautista.\nA partir de las 22:30h.\nAcceso gratuito hasta completar aforo.
URL:https://espectaculonocheandaluza.com/concierto/noche-andaluza-en-los-villares-jaen/
LOCATION:Paraje hermita San Juan Bautista\, Los Villares\, Jaén\, 23160\, Spain
CATEGORIES:Conciertos
ATTACH;FMTTYPE=image/jpeg:https://espectaculonocheandaluza.com/wp-content/uploads/2025/02/CAtel-Los-Villares-Noche-Andaluza-Jaen.jpg
ORGANIZER;CN="Noche Andaluza":MAILTO:espectaculonocheandaluza@gmail.com
END:VEVENT
BEGIN:VEVENT
DTSTART;TZID=UTC:20250620T013000
DTEND;TZID=UTC:20250621T023000
DTSTAMP:20260419T203425
CREATED:20250522T085157Z
LAST-MODIFIED:20250609T103306Z
UID:2175-1750383000-1750473000@espectaculonocheandaluza.com
SUMMARY:Noche Andaluza en Herrera - Sevilla
DESCRIPTION:El Espectáculo Noche Andaluza visita el municipio de Herrera\, en la provincia de Sevilla. \n– Caseta Municipal Rafael Gálvez Guijarro. (Verbena San Juan). \n– Horario: Concierto 1:30h. \n– Acceso gratuito hasta completar aforo.
URL:https://espectaculonocheandaluza.com/concierto/noche-andaluza-en-herrera-sevilla/
LOCATION:caseta municipal Rafael Gálvez Guijarro\, Herrera\, Sevilla\, Spain
CATEGORIES:Conciertos
ATTACH;FMTTYPE=image/jpeg:https://espectaculonocheandaluza.com/wp-content/uploads/2025/05/IMG-20250609-WA0011.jpg
ORGANIZER;CN="Noche Andaluza":MAILTO:espectaculonocheandaluza@gmail.com
END:VEVENT
END:VCALENDAR