BEGIN:VCALENDAR
VERSION:2.0
PRODID:-//Noche Andaluza - ECPv6.15.15//NONSGML v1.0//EN
CALSCALE:GREGORIAN
METHOD:PUBLISH
X-WR-CALNAME:Noche Andaluza
X-ORIGINAL-URL:https://espectaculonocheandaluza.com
X-WR-CALDESC:Eventos para Noche Andaluza
REFRESH-INTERVAL;VALUE=DURATION:PT1H
X-Robots-Tag:noindex
X-PUBLISHED-TTL:PT1H
BEGIN:VTIMEZONE
TZID:UTC
BEGIN:STANDARD
TZOFFSETFROM:+0000
TZOFFSETTO:+0000
TZNAME:UTC
DTSTART:20230101T000000
END:STANDARD
END:VTIMEZONE
BEGIN:VEVENT
DTSTART;VALUE=DATE:20241108
DTEND;VALUE=DATE:20241110
DTSTAMP:20260420T094336
CREATED:20240307T062113Z
LAST-MODIFIED:20240307T062113Z
UID:1749-1731042000-1731128399@espectaculonocheandaluza.com
SUMMARY:Noche Andaluza en Alhaurín el Grande - Málaga
DESCRIPTION:El espectáculo Noche Andaluza continua su gira 2024 en el municipio de Alhaurín el Grande\, Málaga. \nAñadiremos más de talles y el cartel a medida que el organizarlo vaya haciéndolo público.
URL:https://espectaculonocheandaluza.com/concierto/noche-andaluza-en-alhaurin-el-grande-malaga/
CATEGORIES:Conciertos
ORGANIZER;CN="Noche Andaluza":MAILTO:espectaculonocheandaluza@gmail.com
END:VEVENT
BEGIN:VEVENT
DTSTART;TZID=UTC:20241109T213000
DTEND;TZID=UTC:20241109T213000
DTSTAMP:20260420T094336
CREATED:20240918T152530Z
LAST-MODIFIED:20241017T122745Z
UID:1946-1731187800-1731187800@espectaculonocheandaluza.com
SUMMARY:Noche Andaluza en Marbella - Málaga
DESCRIPTION:Noche Andaluza Vuelve a Marbella en el  Metalurgika Festival. \n\nBoulevard Pablo Ráez.\nComienzo festival: 13:00h.\nConcierto Noche Andaluza: 21:30h. Aproximadamente.\nAcceso gratuito hasta completar aforo.
URL:https://espectaculonocheandaluza.com/concierto/noche-andaluza-en-marbella-malaga-2/
CATEGORIES:Conciertos
ORGANIZER;CN="Noche Andaluza":MAILTO:espectaculonocheandaluza@gmail.com
END:VEVENT
END:VCALENDAR