BEGIN:VCALENDAR
VERSION:2.0
PRODID:-//Noche Andaluza - ECPv6.15.15//NONSGML v1.0//EN
CALSCALE:GREGORIAN
METHOD:PUBLISH
X-WR-CALNAME:Noche Andaluza
X-ORIGINAL-URL:https://espectaculonocheandaluza.com
X-WR-CALDESC:Eventos para Noche Andaluza
REFRESH-INTERVAL;VALUE=DURATION:PT1H
X-Robots-Tag:noindex
X-PUBLISHED-TTL:PT1H
BEGIN:VTIMEZONE
TZID:UTC
BEGIN:STANDARD
TZOFFSETFROM:+0000
TZOFFSETTO:+0000
TZNAME:UTC
DTSTART:20230101T000000
END:STANDARD
END:VTIMEZONE
BEGIN:VEVENT
DTSTART;VALUE=DATE:20240809
DTEND;VALUE=DATE:20240811
DTSTAMP:20260420T153320
CREATED:20240307T061550Z
LAST-MODIFIED:20240806T190901Z
UID:1745-1723179600-1723265999@espectaculonocheandaluza.com
SUMMARY:Noche Andaluza en Bormujos - Sevilla
DESCRIPTION:El espectáculo Noche Andaluza continua su gira 2024 en el municipio de Bormujos\, Sevilla. \n– Parque Hacienda Belén. \n– Horario: 23:00h. \n– Acceso gratuito.
URL:https://espectaculonocheandaluza.com/concierto/noche-andaluza-en-bormujos-sevilla/
LOCATION:Parque Hacienda Belen\, Parque Hacienda Belen\, Bormujos\, Sevilla\, 41930\, España
CATEGORIES:Conciertos
ATTACH;FMTTYPE=image/jpeg:https://espectaculonocheandaluza.com/wp-content/uploads/2024/03/FB_IMG_1722968415839.jpg
ORGANIZER;CN="Noche Andaluza":MAILTO:espectaculonocheandaluza@gmail.com
END:VEVENT
BEGIN:VEVENT
DTSTART;VALUE=DATE:20240810
DTEND;VALUE=DATE:20240812
DTSTAMP:20260420T153320
CREATED:20240307T061856Z
LAST-MODIFIED:20240729T173624Z
UID:1747-1723266000-1723352399@espectaculonocheandaluza.com
SUMMARY:Noche Andaluza en San Martín del Tesorillo - Cádiz
DESCRIPTION:El espectáculo Noche Andaluza continua su gira 2024 en el municipio de San Martín del Tesorillo\, Cádiz. \n\nUbicación: Plaza de la Constitución.\nHorario: 23:00h.\nAcceso gratuito hasta completar aforo.
URL:https://espectaculonocheandaluza.com/concierto/noche-andaluza-en-san-martin-del-tesorillo-cadiz/
LOCATION:Plaza de la Constitución\, Plaza de la Constitución\, Fuente de Piedra\, Málaga\, 29520\, Spain
CATEGORIES:Conciertos
ATTACH;FMTTYPE=image/jpeg:https://espectaculonocheandaluza.com/wp-content/uploads/2024/03/WhatsApp-Image-2024-07-29-at-12.23.58.jpeg
ORGANIZER;CN="Noche Andaluza":MAILTO:espectaculonocheandaluza@gmail.com
END:VEVENT
BEGIN:VEVENT
DTSTART;TZID=UTC:20240811T230000
DTEND;TZID=UTC:20240811T230000
DTSTAMP:20260420T153320
CREATED:20240322T185955Z
LAST-MODIFIED:20240811T124653Z
UID:1759-1723417200-1723417200@espectaculonocheandaluza.com
SUMMARY:NOCHE ANDALUZA EN IGUALEJA – MÁLAGA
DESCRIPTION:El espectáculo Noche Andaluza continua su gira 2024 en el municipio de Igualeja\, Málaga. \n  \n– 23:00 Horas. \n– Plaza Andalucía. \n– Acceso libre.
URL:https://espectaculonocheandaluza.com/concierto/noche-andaluza-en-igualeja-malaga/
LOCATION:Plaza Andalucía\, Plaza Andalucía\, Igualeja\, Málaga\, 29440\, España
CATEGORIES:Conciertos
ORGANIZER;CN="Noche Andaluza":MAILTO:espectaculonocheandaluza@gmail.com
END:VEVENT
BEGIN:VEVENT
DTSTART;VALUE=DATE:20240814
DTEND;VALUE=DATE:20240816
DTSTAMP:20260420T153320
CREATED:20240731T173912Z
LAST-MODIFIED:20240813T122709Z
UID:1900-1723611600-1723697999@espectaculonocheandaluza.com
SUMMARY:Noche Andaluza en Benamejí - Córdoba
DESCRIPTION:El espectáculo noche andaluza llega a la localidad de Benamejí en Córdoba. \n– A partir de las 00:00h. \n– Caseta Municipal. \n– Acceso libre.
URL:https://espectaculonocheandaluza.com/concierto/noche-andaluza-en-benameji-cordoba/
CATEGORIES:Conciertos
ATTACH;FMTTYPE=image/jpeg:https://espectaculonocheandaluza.com/wp-content/uploads/2024/07/FB_IMG_1723539246522.jpg
ORGANIZER;CN="Noche Andaluza":MAILTO:espectaculonocheandaluza@gmail.com
END:VEVENT
BEGIN:VEVENT
DTSTART;TZID=UTC:20240816T233000
DTEND;TZID=UTC:20240817T013000
DTSTAMP:20260420T153320
CREATED:20240729T174128Z
LAST-MODIFIED:20240813T121241Z
UID:1896-1723851000-1723858200@espectaculonocheandaluza.com
SUMMARY:Noche Andaluza en Archidona - Málaga
DESCRIPTION:El Espectáculo Noche Andaluza Homenaje al Rock Andaluz\, vuelve a Archidona para presentar su espectáculo. \n– Auditorio recinto ferial. \n– Horario:23:30 h. \n– Acceso libre. \n 
URL:https://espectaculonocheandaluza.com/concierto/noche-andaluza-regresa-a-archidona-malaga/
LOCATION:Auditorio\, Recinto Ferial\, Archidona\, Málaga\, 29300
CATEGORIES:Conciertos
ATTACH;FMTTYPE=image/jpeg:https://espectaculonocheandaluza.com/wp-content/uploads/2024/07/IMG-20240813-WA0013.jpg
ORGANIZER;CN="Noche Andaluza":MAILTO:espectaculonocheandaluza@gmail.com
END:VEVENT
BEGIN:VEVENT
DTSTART;TZID=UTC:20240817T013000
DTEND;TZID=UTC:20240817T033000
DTSTAMP:20260420T153320
CREATED:20240429T103637Z
LAST-MODIFIED:20240813T134625Z
UID:1816-1723858200-1723865400@espectaculonocheandaluza.com
SUMMARY:Noche Andaluza en Piornal - Cáceres
DESCRIPTION:Noche Andaluza continua su gira 24 en la localidad de Piornal en Cáceres. \n\nPLaza de las Eras.\nHorario: 01:30h.\nAcceso Libre.
URL:https://espectaculonocheandaluza.com/concierto/noche-andaluza-en-piornal-caceres/
LOCATION:Plaza de las Eras\, Piornal\, Cáceres\, España
CATEGORIES:Conciertos
ORGANIZER;CN="Noche Andaluza":MAILTO:espectaculonocheandaluza@gmail.com
END:VEVENT
BEGIN:VEVENT
DTSTART;TZID=UTC:20240818T000000
DTEND;TZID=UTC:20240819T020000
DTSTAMP:20260420T153320
CREATED:20240417T140629Z
LAST-MODIFIED:20240813T121907Z
UID:1778-1723939200-1724032800@espectaculonocheandaluza.com
SUMMARY:Noche Andaluza en Valverde del Camino - Huelva
DESCRIPTION:El espectáculo Noche Andaluza continua su gira 2024 en el municipio de Valverde del Camino\, Huelva \nAñadiremos más de talles y el cartel a medida que el organizarlo vaya haciéndolo público.
URL:https://espectaculonocheandaluza.com/concierto/noche-andaluza-en-valverde-del-camino-huelva/
LOCATION:Caseta Municipal\, Valverde del Camino\, Huelva\, España
CATEGORIES:Conciertos
ATTACH;FMTTYPE=image/jpeg:https://espectaculonocheandaluza.com/wp-content/uploads/2024/04/FB_IMG_1723545929244.jpg
ORGANIZER;CN="Noche Andaluza":MAILTO:espectaculonocheandaluza@gmail.com
END:VEVENT
BEGIN:VEVENT
DTSTART;VALUE=DATE:20240822
DTEND;VALUE=DATE:20240824
DTSTAMP:20260420T153320
CREATED:20240307T084113Z
LAST-MODIFIED:20240821T092437Z
UID:1752-1724302800-1724389199@espectaculonocheandaluza.com
SUMMARY:Noche Andaluza en Guaro - Málaga
DESCRIPTION:El espectáculo Noche Andaluza continua su gira 2024 en el municipio de Guaro\, Málaga. \n– Plaza de la Constitución. \n– Horario: 03:00h. \n– Acceso gratuito.
URL:https://espectaculonocheandaluza.com/concierto/noche-andaluza-en-guaro-malaga-2/
CATEGORIES:Conciertos
ORGANIZER;CN="Noche Andaluza":MAILTO:espectaculonocheandaluza@gmail.com
END:VEVENT
BEGIN:VEVENT
DTSTART;TZID=UTC:20240824T010000
DTEND;TZID=UTC:20240825T020000
DTSTAMP:20260420T153320
CREATED:20240522T154807Z
LAST-MODIFIED:20240823T094852Z
UID:1840-1724461200-1724551200@espectaculonocheandaluza.com
SUMMARY:Noche Andaluza en Santa Olalla del Cala - Huelva
DESCRIPTION:El espectáculo Noche Andaluza continua su gira 2024 en el municipio de Santa Olalla del Cala\, Huelva. \n– Caseta municipal. \n– Horario: 01:00h. \n– Acceso libre.
URL:https://espectaculonocheandaluza.com/concierto/noche-andaluza-en-santa-olalla-del-cala-huelva/
CATEGORIES:Conciertos
ATTACH;FMTTYPE=image/jpeg:https://espectaculonocheandaluza.com/wp-content/uploads/2024/05/FB_IMG_1724406249922.jpg
ORGANIZER;CN="Noche Andaluza":MAILTO:espectaculonocheandaluza@gmail.com
END:VEVENT
END:VCALENDAR