BEGIN:VCALENDAR
VERSION:2.0
PRODID:-//Noche Andaluza - ECPv6.15.15//NONSGML v1.0//EN
CALSCALE:GREGORIAN
METHOD:PUBLISH
X-ORIGINAL-URL:https://espectaculonocheandaluza.com
X-WR-CALDESC:Eventos para Noche Andaluza
REFRESH-INTERVAL;VALUE=DURATION:PT1H
X-Robots-Tag:noindex
X-PUBLISHED-TTL:PT1H
BEGIN:VTIMEZONE
TZID:UTC
BEGIN:STANDARD
TZOFFSETFROM:+0000
TZOFFSETTO:+0000
TZNAME:UTC
DTSTART:20230101T000000
END:STANDARD
END:VTIMEZONE
BEGIN:VEVENT
DTSTART;TZID=UTC:20240713T233000
DTEND;TZID=UTC:20240713T233000
DTSTAMP:20260420T172541
CREATED:20240704T051045Z
LAST-MODIFIED:20240705T113631Z
UID:1869-1720913400-1720913400@espectaculonocheandaluza.com
SUMMARY:NOCHE ANDALUZA EN ESTACIÓN DE CORTES - Málaga
DESCRIPTION:Noche Andaluza continua su gira en la Estación de Cortés\, Cortes de la Frontera\, Cádiz. \n– Ubicación: Plaza Nueva. \n– Horario: 23:30h. \n– Acceso gratuito.
URL:https://espectaculonocheandaluza.com/concierto/noche-andaluza-en-estacion-de-cortes-malaga/
LOCATION:Plaza Nueva\, Plaza nueva\, Estación de Cortes\, Cádiz\, 29391\, España
CATEGORIES:Conciertos
ATTACH;FMTTYPE=image/jpeg:https://espectaculonocheandaluza.com/wp-content/uploads/2024/07/IMG-20240705-WA0021.jpg
END:VEVENT
BEGIN:VEVENT
DTSTART;TZID=UTC:20240727T233000
DTEND;TZID=UTC:20240728T015900
DTSTAMP:20260420T172541
CREATED:20240307T061255Z
LAST-MODIFIED:20240704T053123Z
UID:1743-1722123000-1722131940@espectaculonocheandaluza.com
SUMMARY:Noche Andaluza en Orcera - Jaén
DESCRIPTION:El espectáculo Noche Andaluza continua su gira 2024 en el municipio de Orcera\, Jaén \n– Ubicación: Piscina Municipal Amurjo. \n– Festival Aquasión Amurjo. \n– Horario: 23:30h. \n– Acceso 10€ \n 
URL:https://espectaculonocheandaluza.com/concierto/noche-andaluza-en-orcera-jaen/
LOCATION:Piscina de Amurjo\, Orcera\, Jaén\, 23370
CATEGORIES:Conciertos
ORGANIZER;CN="Noche Andaluza":MAILTO:espectaculonocheandaluza@gmail.com
END:VEVENT
END:VCALENDAR