BEGIN:VCALENDAR
VERSION:2.0
PRODID:-//Noche Andaluza - ECPv6.15.15//NONSGML v1.0//EN
CALSCALE:GREGORIAN
METHOD:PUBLISH
X-ORIGINAL-URL:https://espectaculonocheandaluza.com
X-WR-CALDESC:Eventos para Noche Andaluza
REFRESH-INTERVAL;VALUE=DURATION:PT1H
X-Robots-Tag:noindex
X-PUBLISHED-TTL:PT1H
BEGIN:VTIMEZONE
TZID:UTC
BEGIN:STANDARD
TZOFFSETFROM:+0000
TZOFFSETTO:+0000
TZNAME:UTC
DTSTART:20230101T000000
END:STANDARD
END:VTIMEZONE
BEGIN:VEVENT
DTSTART;TZID=UTC:20240601T230000
DTEND;TZID=UTC:20240601T230000
DTSTAMP:20260420T191621
CREATED:20240429T103230Z
LAST-MODIFIED:20240522T155245Z
UID:1814-1717282800-1717282800@espectaculonocheandaluza.com
SUMMARY:Noche Andaluza en Aguilar de la Frontera - Córdoba
DESCRIPTION:Noche Andaluza continua su gira 2024 en la localidad de Aguilar de la Frontera en Córdoba. \n  \n\nCaseta Municipal.\nHorario de comienzo: 23:00h. Aproximadamente.\nAcceso Gratuito.\nOrganiza: Asociación Motos Clásicas de Aguilar de la Frontera.
URL:https://espectaculonocheandaluza.com/concierto/noche-andaluza-en-aguilar-de-la-frontera-cordoba-2/
LOCATION:Caseta Municipal\, Valverde del Camino\, Huelva\, España
CATEGORIES:Conciertos
ORGANIZER;CN="Noche Andaluza":MAILTO:espectaculonocheandaluza@gmail.com
END:VEVENT
BEGIN:VEVENT
DTSTART;TZID=UTC:20240608T230000
DTEND;TZID=UTC:20240609T010000
DTSTAMP:20260420T191621
CREATED:20240307T060855Z
LAST-MODIFIED:20240521T154258Z
UID:1741-1717887600-1717894800@espectaculonocheandaluza.com
SUMMARY:Noche Andaluza en Alfafar - Valencia
DESCRIPTION:El espectáculo Noche Andaluza continua su gira 2024 en el municipio de Alfafar\, Valencia . \n\nPlaza Sanchis Guarner.\nHora comienzo : 23:00h.\nAcceso gratuito.\nOrganiza: Asociación Cultural Andaluza de Alfafar.
URL:https://espectaculonocheandaluza.com/concierto/noche-andaluza-en-alfafar-valencia/
LOCATION:Plaza Sanchis Guarner\, Plaza Sanchis Guarner\, Valencia\, Valencia\, 46910\, España
CATEGORIES:Conciertos
ORGANIZER;CN="Noche Andaluza":MAILTO:espectaculonocheandaluza@gmail.com
END:VEVENT
BEGIN:VEVENT
DTSTART;TZID=UTC:20240616T223000
DTEND;TZID=UTC:20240616T233000
DTSTAMP:20260420T191621
CREATED:20240417T140202Z
LAST-MODIFIED:20240611T174202Z
UID:1772-1718577000-1718580600@espectaculonocheandaluza.com
SUMMARY:Noche Andaluza en Pedrera - Sevilla
DESCRIPTION:El espectáculo Noche Andaluza continua su gira 2024 en el municipio de Pedrera\, Sevilla. \n\nHorario: 22:30H.\nCaseta Municipal.\nAcceso Libre.
URL:https://espectaculonocheandaluza.com/concierto/noche-andaluza-en-pedrera-sevilla/
LOCATION:Caseta Municipal\, Valverde del Camino\, Huelva\, España
CATEGORIES:Conciertos
ORGANIZER;CN="Noche Andaluza":MAILTO:espectaculonocheandaluza@gmail.com
END:VEVENT
BEGIN:VEVENT
DTSTART;TZID=UTC:20240622T003000
DTEND;TZID=UTC:20240622T045900
DTSTAMP:20260420T191621
CREATED:20240522T154300Z
LAST-MODIFIED:20240618T145746Z
UID:1835-1719016200-1719032340@espectaculonocheandaluza.com
SUMMARY:Noche Andaluza en Campillos - Málaga
DESCRIPTION:El espectáculo Noche Andaluza continua su gira 2024 en el municipio de Campillos\, Málaga. \nFestival «La Noche en Blanco» \n\nParque José María Hinojosa.\nHorario: 00:30H.\nAcceso Libre.
URL:https://espectaculonocheandaluza.com/concierto/noche-andaluza-en-campillos-malaga/
LOCATION:Parque Jose Maria Hinojosa\, Parque José María Hinojosa\, Campillos\, Málaga\, 29320\, España
CATEGORIES:Conciertos
ORGANIZER;CN="Noche Andaluza":MAILTO:espectaculonocheandaluza@gmail.com
END:VEVENT
BEGIN:VEVENT
DTSTART;TZID=UTC:20240629T213000
DTEND;TZID=UTC:20240629T213000
DTSTAMP:20260420T191622
CREATED:20240417T140356Z
LAST-MODIFIED:20240619T193941Z
UID:1776-1719696600-1719696600@espectaculonocheandaluza.com
SUMMARY:Noche Andaluza en La Puebla de Los Infantes - Sevilla
DESCRIPTION:El espectáculo Noche Andaluza continua su gira 2024 en el municipio de La Puebla de Los Infantes\, Sevilla. \n\nPolideportivo Municipal.\nApertura de puertas: 21:30h.\nAcceso Gratuito.
URL:https://espectaculonocheandaluza.com/concierto/noche-andaluza-en-puebla-de-los-infantes-sevilla/
LOCATION:Polideportivo Municipal\, Polideportivo Municipal\, Istán\, Málaga\, Spain
CATEGORIES:Conciertos
ORGANIZER;CN="Noche Andaluza":MAILTO:espectaculonocheandaluza@gmail.com
END:VEVENT
END:VCALENDAR