BEGIN:VCALENDAR
VERSION:2.0
PRODID:-//Noche Andaluza - ECPv6.15.15//NONSGML v1.0//EN
CALSCALE:GREGORIAN
METHOD:PUBLISH
X-WR-CALNAME:Noche Andaluza
X-ORIGINAL-URL:https://espectaculonocheandaluza.com
X-WR-CALDESC:Eventos para Noche Andaluza
REFRESH-INTERVAL;VALUE=DURATION:PT1H
X-Robots-Tag:noindex
X-PUBLISHED-TTL:PT1H
BEGIN:VTIMEZONE
TZID:UTC
BEGIN:STANDARD
TZOFFSETFROM:+0000
TZOFFSETTO:+0000
TZNAME:UTC
DTSTART:20220101T000000
END:STANDARD
END:VTIMEZONE
BEGIN:VEVENT
DTSTART;TZID=UTC:20231015T173000
DTEND;TZID=UTC:20231015T183000
DTSTAMP:20260425T160204
CREATED:20230726T172226Z
LAST-MODIFIED:20231005T175732Z
UID:1639-1697391000-1697394600@espectaculonocheandaluza.com
SUMMARY:NOCHE ANDALUZA EN ARRIATE - MÁLAGA
DESCRIPTION:El espectáculo «TRIANA 40 AÑOS DE LEYENDA» continua su gira 2023  en la localidad de Arriate\, en la provincia de Málaga. \n  \nEn el XVII Fiesta en el Aire de Arriate que se presentará durante 3 días\, Noche Andaluza tendrá su turno el día 15 en el escenario principal. \nUbicación: Plaza de la Constitución \nHorario: A partir de las 17:30h.
URL:https://espectaculonocheandaluza.com/concierto/noche-andaluza-en-arriate-malaga/
CATEGORIES:Conciertos
ORGANIZER;CN="Noche Andaluza":MAILTO:espectaculonocheandaluza@gmail.com
END:VEVENT
BEGIN:VEVENT
DTSTART;TZID=UTC:20231028T200000
DTEND;TZID=UTC:20231028T220000
DTSTAMP:20260425T160204
CREATED:20231005T180421Z
LAST-MODIFIED:20231025T153411Z
UID:1692-1698523200-1698530400@espectaculonocheandaluza.com
SUMMARY:Noche Andaluza en Villanueva del Duque - Córdoba
DESCRIPTION:Noche Andaluza se presenta en el municipio de Villanueva del Duque en la provincia de Córdoba. \nUbicación: Plaza del Ayuntamiento. \nHorario: 20:00h. \nAcceso gratuito hasta completar aforo.
URL:https://espectaculonocheandaluza.com/concierto/noche-andaluza-en-villanueva-del-duque-cordoba/
LOCATION:Plaza del Ayuntamiento\, Plaza del Ayuntamiento\, Villanueva del Duque\, Córdoba\, 14250\, España
CATEGORIES:Conciertos
ORGANIZER;CN="Noche Andaluza":MAILTO:espectaculonocheandaluza@gmail.com
END:VEVENT
END:VCALENDAR