BEGIN:VCALENDAR
VERSION:2.0
PRODID:-//Noche Andaluza - ECPv6.15.15//NONSGML v1.0//EN
CALSCALE:GREGORIAN
METHOD:PUBLISH
X-ORIGINAL-URL:https://espectaculonocheandaluza.com
X-WR-CALDESC:Eventos para Noche Andaluza
REFRESH-INTERVAL;VALUE=DURATION:PT1H
X-Robots-Tag:noindex
X-PUBLISHED-TTL:PT1H
BEGIN:VTIMEZONE
TZID:UTC
BEGIN:STANDARD
TZOFFSETFROM:+0000
TZOFFSETTO:+0000
TZNAME:UTC
DTSTART:20240101T000000
END:STANDARD
END:VTIMEZONE
BEGIN:VEVENT
DTSTART;TZID=UTC:20250816T233000
DTEND;TZID=UTC:20250816T233000
DTSTAMP:20260424T123325
CREATED:20250522T085852Z
LAST-MODIFIED:20250806T165927Z
UID:2181-1755387000-1755387000@espectaculonocheandaluza.com
SUMMARY:Noche Andaluza en Estepona - Málaga
DESCRIPTION:El Espectáculo Noche Andaluza visita el municipio de Estepona\, en la provincia de Málaga. \n– Paseo marítimo de Estepona. \n– A partir de las 23:30h. \n– Acceso gratuito.
URL:https://espectaculonocheandaluza.com/concierto/noche-andaluza-en-estepona-malaga-3/
CATEGORIES:Conciertos
ATTACH;FMTTYPE=image/jpeg:https://espectaculonocheandaluza.com/wp-content/uploads/2025/05/FB_IMG_1754499025323.jpg
ORGANIZER;CN="Noche Andaluza":MAILTO:espectaculonocheandaluza@gmail.com
END:VEVENT
END:VCALENDAR