BEGIN:VCALENDAR
VERSION:2.0
PRODID:-//Noche Andaluza - ECPv6.15.15//NONSGML v1.0//EN
CALSCALE:GREGORIAN
METHOD:PUBLISH
X-WR-CALNAME:Noche Andaluza
X-ORIGINAL-URL:https://espectaculonocheandaluza.com
X-WR-CALDESC:Eventos para Noche Andaluza
REFRESH-INTERVAL;VALUE=DURATION:PT1H
X-Robots-Tag:noindex
X-PUBLISHED-TTL:PT1H
BEGIN:VTIMEZONE
TZID:UTC
BEGIN:STANDARD
TZOFFSETFROM:+0000
TZOFFSETTO:+0000
TZNAME:UTC
DTSTART:20230101T000000
END:STANDARD
END:VTIMEZONE
BEGIN:VEVENT
DTSTART;TZID=UTC:20240622T003000
DTEND;TZID=UTC:20240622T045900
DTSTAMP:20260425T142516
CREATED:20240522T154300Z
LAST-MODIFIED:20240618T145746Z
UID:1835-1719016200-1719032340@espectaculonocheandaluza.com
SUMMARY:Noche Andaluza en Campillos - Málaga
DESCRIPTION:El espectáculo Noche Andaluza continua su gira 2024 en el municipio de Campillos\, Málaga. \nFestival «La Noche en Blanco» \n\nParque José María Hinojosa.\nHorario: 00:30H.\nAcceso Libre.
URL:https://espectaculonocheandaluza.com/concierto/noche-andaluza-en-campillos-malaga/
LOCATION:Parque Jose Maria Hinojosa\, Parque José María Hinojosa\, Campillos\, Málaga\, 29320\, España
CATEGORIES:Conciertos
ORGANIZER;CN="Noche Andaluza":MAILTO:espectaculonocheandaluza@gmail.com
END:VEVENT
END:VCALENDAR