BEGIN:VCALENDAR
VERSION:2.0
PRODID:-//Noche Andaluza - ECPv6.15.15//NONSGML v1.0//EN
CALSCALE:GREGORIAN
METHOD:PUBLISH
X-ORIGINAL-URL:https://espectaculonocheandaluza.com
X-WR-CALDESC:Eventos para Noche Andaluza
REFRESH-INTERVAL;VALUE=DURATION:PT1H
X-Robots-Tag:noindex
X-PUBLISHED-TTL:PT1H
BEGIN:VTIMEZONE
TZID:UTC
BEGIN:STANDARD
TZOFFSETFROM:+0000
TZOFFSETTO:+0000
TZNAME:UTC
DTSTART:20240101T000000
END:STANDARD
END:VTIMEZONE
BEGIN:VEVENT
DTSTART;TZID=UTC:20250905T223000
DTEND;TZID=UTC:20250905T233000
DTSTAMP:20260424T150648
CREATED:20250711T083100Z
LAST-MODIFIED:20250830T110416Z
UID:2221-1757111400-1757115000@espectaculonocheandaluza.com
SUMMARY:Noche Andaluza en Fuente de Piedra - Málaga
DESCRIPTION:El Espectáculo Noche Andaluza visita el municipio de Fuente de Piedra\, en la provincia de Málaga. \nEspectáculo Producido por Moronta producciones y organizado por Ayuntamiento de Fuente de Piedra. \n\nUbicación: Plaza de la Constitución.\nHorario: 22:30h.\nAcceso Libre hasta completar aforo\n\n 
URL:https://espectaculonocheandaluza.com/concierto/noche-andaluza-en-fuente-de-piedra-malaga/
LOCATION:Plaza de la Constitución\, Plaza de la Constitución\, Fuente de Piedra\, Málaga\, 29520\, Spain
CATEGORIES:Conciertos
ATTACH;FMTTYPE=image/jpeg:https://espectaculonocheandaluza.com/wp-content/uploads/2025/07/cartel-fuente-de-piedra-copia.jpg
ORGANIZER;CN="Noche Andaluza":MAILTO:espectaculonocheandaluza@gmail.com
END:VEVENT
END:VCALENDAR